BEGIN:VCALENDAR
VERSION:2.0
PRODID:-//Cor Jesu Mission - ECPv6.15.20//NONSGML v1.0//EN
CALSCALE:GREGORIAN
METHOD:PUBLISH
X-WR-CALNAME:Cor Jesu Mission
X-ORIGINAL-URL:https://corjesumission.org
X-WR-CALDESC:Events for Cor Jesu Mission
REFRESH-INTERVAL;VALUE=DURATION:PT1H
X-Robots-Tag:noindex
X-PUBLISHED-TTL:PT1H
BEGIN:VTIMEZONE
TZID:UTC
BEGIN:STANDARD
TZOFFSETFROM:+0000
TZOFFSETTO:+0000
TZNAME:UTC
DTSTART:20240101T000000
END:STANDARD
END:VTIMEZONE
BEGIN:VTIMEZONE
TZID:America/Chicago
BEGIN:DAYLIGHT
TZOFFSETFROM:-0600
TZOFFSETTO:-0500
TZNAME:CDT
DTSTART:20240310T080000
END:DAYLIGHT
BEGIN:STANDARD
TZOFFSETFROM:-0500
TZOFFSETTO:-0600
TZNAME:CST
DTSTART:20241103T070000
END:STANDARD
BEGIN:DAYLIGHT
TZOFFSETFROM:-0600
TZOFFSETTO:-0500
TZNAME:CDT
DTSTART:20250309T080000
END:DAYLIGHT
BEGIN:STANDARD
TZOFFSETFROM:-0500
TZOFFSETTO:-0600
TZNAME:CST
DTSTART:20251102T070000
END:STANDARD
BEGIN:DAYLIGHT
TZOFFSETFROM:-0600
TZOFFSETTO:-0500
TZNAME:CDT
DTSTART:20260308T080000
END:DAYLIGHT
BEGIN:STANDARD
TZOFFSETFROM:-0500
TZOFFSETTO:-0600
TZNAME:CST
DTSTART:20261101T070000
END:STANDARD
END:VTIMEZONE
BEGIN:VEVENT
DTSTART;TZID=UTC:20250918T130000
DTEND;TZID=UTC:20250918T150000
DTSTAMP:20260423T123649
CREATED:20250128T180013Z
LAST-MODIFIED:20250805T201818Z
UID:8235-1758200400-1758207600@corjesumission.org
SUMMARY:Companions Gathering
DESCRIPTION:Join the Cor Jesu Companions for a time of meaningful conversation\, community\, and reflection. \nWe’ll pause to recognize the little ways God has been moving in our lives — and enjoy one another’s company in His presence. \n\n	Notice: JavaScript is required for this content.\n\n\n    \n\n\n        \n        \n                \n\n        \n\n        \n  \n  \n 
URL:https://corjesumission.org/event/companions-gathering-14-2/
LOCATION:The Mission of Cor Jesu\, 5615 Hamilton Rd.\, Woodstock\, IL\, 60098\, United States
ATTACH;FMTTYPE=image/png:https://corjesumission.org/wp-content/uploads/2025/01/Copy-of-Companions-in-September-Instagram-Post-45.png
END:VEVENT
BEGIN:VEVENT
DTSTART;VALUE=DATE:20250925
DTEND;VALUE=DATE:20250926
DTSTAMP:20260423T123649
CREATED:20250715T165007Z
LAST-MODIFIED:20250802T215716Z
UID:8525-1758758400-1758844799@corjesumission.org
SUMMARY:1-Day Pilgrimage to Champion\, WI with Fr Jerome
DESCRIPTION:1-Day Retreat and Pilgrimage with Fr. Jerome \nJoin us for a special one-day retreat and pilgrimage to the Shrine of Our Lady of Champion\, the only Church-approved Marian apparition site in the United States. \nThis is more than a pilgrimage—it’s a day of retreat and renewal\, designed to nourish your soul and deepen your walk with the Lord. Set against the peaceful backdrop of the sacred grounds where the Blessed Virgin Mary appeared in 1859\, this retreat offers a unique opportunity to step away from the noise of daily life and enter into a place of prayer\, healing\, and grace. \nLed by Fr. Jerome Koutnik\, the day will feature a special retreat conference on prayer\, offering practical tools and spiritual insight to help you grow in intimacy with God. You’ll also participate in Holy Mass\, Confession\, and Adoration\, and enjoy time to tour the shrine with a historical talk on the apparition. Take time to walk the serene and holy grounds where so many pilgrims have experienced profound peace and healing. \nCome experience the quiet strength of Our Lady’s presence\, the richness of her message\, and a day set apart to encounter Christ more deeply.  \nRegister Today!
URL:https://corjesumission.org/event/1-day-pilgrimage-to-champion-with-fr-jerome/
LOCATION:IL
ATTACH;FMTTYPE=image/png:https://corjesumission.org/wp-content/uploads/2025/07/the-Shrine-of-our-Lady-of-champion-1-e1754171573808.png
END:VEVENT
END:VCALENDAR