BEGIN:VCALENDAR
VERSION:2.0
PRODID:-//Cor Jesu Mission - ECPv6.15.20//NONSGML v1.0//EN
CALSCALE:GREGORIAN
METHOD:PUBLISH
X-ORIGINAL-URL:https://corjesumission.org
X-WR-CALDESC:Events for Cor Jesu Mission
REFRESH-INTERVAL;VALUE=DURATION:PT1H
X-Robots-Tag:noindex
X-PUBLISHED-TTL:PT1H
BEGIN:VTIMEZONE
TZID:UTC
BEGIN:STANDARD
TZOFFSETFROM:+0000
TZOFFSETTO:+0000
TZNAME:UTC
DTSTART:20240101T000000
END:STANDARD
END:VTIMEZONE
BEGIN:VEVENT
DTSTART;TZID=UTC:20250808T180000
DTEND;TZID=UTC:20250808T220000
DTSTAMP:20260422T205045
CREATED:20241024T191451Z
LAST-MODIFIED:20250626T164808Z
UID:7932-1754676000-1754690400@corjesumission.org
SUMMARY:Date Night
DESCRIPTION:🌺 Aloha Date Night – August 8th at Cor Jesu! \nSay aloha to an unforgettable evening! 🌴🌺 \nJoin us for our Hawaiian-themed Aloha Date Night on Friday\, August 8th at 6:00 p.m. at The Mission of Cor Jesu! Escape with your spouse for a fun\, faith-filled night of island vibes\, delicious food\, tropical treats\, and intentional time together. \nThis is more than a night out—it’s a night to grow closer to each other and to Christ. \n🌸 $65 donation per couple \n🥥 Hawaiian dinner\, drinks\, games\, and surprises included! \nSpots fill quickly\, so RSVP today and come celebrate love\, laughter\, and luau with us! \nRegister Today!
URL:https://corjesumission.org/event/aloha-date-night/
LOCATION:The Mission of Cor Jesu\, 5615 Hamilton Rd.\, Woodstock\, IL\, 60098\, United States
ATTACH;FMTTYPE=image/png:https://corjesumission.org/wp-content/uploads/2024/10/Hawaiian-Date-Night-1-e1750956340475.png
END:VEVENT
BEGIN:VEVENT
DTSTART;TZID=UTC:20250821T130000
DTEND;TZID=UTC:20250821T150000
DTSTAMP:20260422T205045
CREATED:20241024T191553Z
LAST-MODIFIED:20250805T202452Z
UID:7934-1755781200-1755788400@corjesumission.org
SUMMARY:Companions Gathering
DESCRIPTION:Bring your best dessert or savory dish to share and compete for some friendly bragging rights. \nLet’s enjoy great food\, good company\, and a whole lot of laughs together! \n\n	Notice: JavaScript is required for this content.
URL:https://corjesumission.org/event/companions-gathering-august-2025/
LOCATION:The Mission of Cor Jesu\, 5615 Hamilton Rd.\, Woodstock\, IL\, 60098\, United States
ATTACH;FMTTYPE=image/png:https://corjesumission.org/wp-content/uploads/2024/10/Companion-August-e1753994727355.png
END:VEVENT
END:VCALENDAR