BEGIN:VCALENDAR
VERSION:2.0
PRODID:-//Cor Jesu Mission - ECPv6.15.20//NONSGML v1.0//EN
CALSCALE:GREGORIAN
METHOD:PUBLISH
X-ORIGINAL-URL:https://corjesumission.org
X-WR-CALDESC:Events for Cor Jesu Mission
REFRESH-INTERVAL;VALUE=DURATION:PT1H
X-Robots-Tag:noindex
X-PUBLISHED-TTL:PT1H
BEGIN:VTIMEZONE
TZID:UTC
BEGIN:STANDARD
TZOFFSETFROM:+0000
TZOFFSETTO:+0000
TZNAME:UTC
DTSTART:20230101T000000
END:STANDARD
END:VTIMEZONE
BEGIN:VEVENT
DTSTART;VALUE=DATE:20240425
DTEND;VALUE=DATE:20240426
DTSTAMP:20260422T081900
CREATED:20240104T221903Z
LAST-MODIFIED:20240322T230604Z
UID:6952-1714003200-1714089599@corjesumission.org
SUMMARY:Marytown 1 Day Retreat and Pilgrimage
DESCRIPTION:Registration Open!!! \nPlease click HERE for more information and to register!
URL:https://corjesumission.org/event/pilgrimage-marytown/
LOCATION:IL
END:VEVENT
END:VCALENDAR